BEGIN:VCALENDAR
PRODID:-//Pixl8//Eventfolio//EN
VERSION:2.0
X-WR-TIMEZONE:Europe/London
CALSCALE:GREGORIAN
METHOD:PUBLISH
CLASS:PUBLIC
BEGIN:VTIMEZONE
TZID:Europe/London
LAST-MODIFIED:20260306T231828Z
TZURL:https://www.tzurl.org/zoneinfo-outlook/Europe/London
X-LIC-LOCATION:Europe/London
BEGIN:DAYLIGHT
TZNAME:BST
TZOFFSETFROM:+0000
TZOFFSETTO:+0100
DTSTART:19700329T010000
RRULE:FREQ=YEARLY;BYMONTH=3;BYDAY=-1SU
END:DAYLIGHT
BEGIN:STANDARD
TZNAME:GMT
TZOFFSETFROM:+0100
TZOFFSETTO:+0000
DTSTART:19701025T020000
RRULE:FREQ=YEARLY;BYMONTH=10;BYDAY=-1SU
END:STANDARD
END:VTIMEZONE
BEGIN:VEVENT
DTSTART;TZID=Europe/London;VALUE=DATE:20250620
DTEND;TZID=Europe/London;VALUE=DATE:20250622
DTSTAMP:20260425T164219Z
UID:{8C070019-9D8C-46CF-BCB28E668C20D54C}
LOCATION:National Hospital for Neurology and Neurosurgery\, London
SUMMARY:Vascular Neurosurgery Course 2025
DESCRIPTION:Don’t miss this fantastic two-day course featuring a comprehensive programme of talks and practical stations dedicated to vascular neurosurgery! Hands-on practical stations include both virtual reality and high-fidelity surgical models of aneurysm clipping, as well as cranial access and microvascular anastomosis skills. Contact: susan.sethi@nhs.net\n
 \n
 Event details: https://www.sbns.org.uk/event-calendar/vascular-neurosurgery-course-2025.html
PRIORITY:1
END:VEVENT
END:VCALENDAR