BEGIN:VCALENDAR
PRODID:-//Pixl8//Eventfolio//EN
VERSION:2.0
X-WR-TIMEZONE:Europe/London
CALSCALE:GREGORIAN
METHOD:PUBLISH
CLASS:PUBLIC
BEGIN:VTIMEZONE
TZID:Europe/London
LAST-MODIFIED:20260306T231828Z
TZURL:https://www.tzurl.org/zoneinfo-outlook/Europe/London
X-LIC-LOCATION:Europe/London
BEGIN:DAYLIGHT
TZNAME:BST
TZOFFSETFROM:+0000
TZOFFSETTO:+0100
DTSTART:19700329T010000
RRULE:FREQ=YEARLY;BYMONTH=3;BYDAY=-1SU
END:DAYLIGHT
BEGIN:STANDARD
TZNAME:GMT
TZOFFSETFROM:+0100
TZOFFSETTO:+0000
DTSTART:19701025T020000
RRULE:FREQ=YEARLY;BYMONTH=10;BYDAY=-1SU
END:STANDARD
END:VTIMEZONE
BEGIN:VEVENT
DTSTART;TZID=Europe/London:20270427T093000
DTEND;TZID=Europe/London:20270427T213000
DTSTAMP:20260421T095542Z
UID:{B3B6B561-BF50-4B1B-926A2A49472ACC9D.46504}
LOCATION:Double Tree by Hilton 
SUMMARY:SBNS Glasgow
DESCRIPTION:The SBNS and our colleagues at Queen Elizabeth University Hospital look forward to welcoming you to Glasgow and the SBNS Spring Meeting  in April 2027.\n
 \n
 Event details: https://www.sbns.org.uk/event-calendar/sbns-glasgow.html
PRIORITY:1
END:VEVENT
BEGIN:VEVENT
DTSTART;TZID=Europe/London:20270428T074500
DTEND;TZID=Europe/London:20270428T235900
DTSTAMP:20260421T095542Z
UID:{B3B6B561-BF50-4B1B-926A2A49472ACC9D.46505}
LOCATION:Double Tree by Hilton 
SUMMARY:SBNS Glasgow
DESCRIPTION:The SBNS and our colleagues at Queen Elizabeth University Hospital look forward to welcoming you to Glasgow and the SBNS Spring Meeting  in April 2027.\n
 \n
 Event details: https://www.sbns.org.uk/event-calendar/sbns-glasgow.html
PRIORITY:1
END:VEVENT
BEGIN:VEVENT
DTSTART;TZID=Europe/London:20270429T081500
DTEND;TZID=Europe/London:20270429T143000
DTSTAMP:20260421T095542Z
UID:{B3B6B561-BF50-4B1B-926A2A49472ACC9D.46506}
LOCATION:Double Tree by Hilton 
SUMMARY:SBNS Glasgow
DESCRIPTION:The SBNS and our colleagues at Queen Elizabeth University Hospital look forward to welcoming you to Glasgow and the SBNS Spring Meeting  in April 2027.\n
 \n
 Event details: https://www.sbns.org.uk/event-calendar/sbns-glasgow.html
PRIORITY:1
END:VEVENT
END:VCALENDAR