BEGIN:VCALENDAR
PRODID:-//Pixl8//Eventfolio//EN
VERSION:2.0
X-WR-TIMEZONE:Europe/London
CALSCALE:GREGORIAN
METHOD:PUBLISH
CLASS:PUBLIC
BEGIN:VTIMEZONE
TZID:Europe/London
LAST-MODIFIED:20260306T231828Z
TZURL:https://www.tzurl.org/zoneinfo-outlook/Europe/London
X-LIC-LOCATION:Europe/London
BEGIN:DAYLIGHT
TZNAME:BST
TZOFFSETFROM:+0000
TZOFFSETTO:+0100
DTSTART:19700329T010000
RRULE:FREQ=YEARLY;BYMONTH=3;BYDAY=-1SU
END:DAYLIGHT
BEGIN:STANDARD
TZNAME:GMT
TZOFFSETFROM:+0100
TZOFFSETTO:+0000
DTSTART:19701025T020000
RRULE:FREQ=YEARLY;BYMONTH=10;BYDAY=-1SU
END:STANDARD
END:VTIMEZONE
BEGIN:VEVENT
DTSTART;TZID=Europe/London:20250519T090000
DTEND;TZID=Europe/London:20250523T170000
DTSTAMP:20260425T115426Z
UID:{536CB024-2952-4AC4-9796E136FE45F0D9}
LOCATION:National Hospital for Neurology and Neurosurgery\, London
SUMMARY:Queen Square Neurosurgery Review Course
DESCRIPTION:5 days of didactic lectures & mock FRCS vivas, delivered in a hybrid format by expert international faculty. Aimed at neurosurgical trainees and fellows of all grades. Ideal for FRCS exam preparation.  SBNS members receive 15%-20% discount!\n
 \n
 Event details: https://www.sbns.org.uk/event-calendar/queen-square-neurosurgery-review-course.html
PRIORITY:1
END:VEVENT
END:VCALENDAR