BEGIN:VCALENDAR
PRODID:-//Pixl8//Eventfolio//EN
VERSION:2.0
X-WR-TIMEZONE:Europe/London
CALSCALE:GREGORIAN
METHOD:PUBLISH
CLASS:PUBLIC
BEGIN:VTIMEZONE
TZID:Europe/London
LAST-MODIFIED:20260306T231828Z
TZURL:https://www.tzurl.org/zoneinfo-outlook/Europe/London
X-LIC-LOCATION:Europe/London
BEGIN:DAYLIGHT
TZNAME:BST
TZOFFSETFROM:+0000
TZOFFSETTO:+0100
DTSTART:19700329T010000
RRULE:FREQ=YEARLY;BYMONTH=3;BYDAY=-1SU
END:DAYLIGHT
BEGIN:STANDARD
TZNAME:GMT
TZOFFSETFROM:+0100
TZOFFSETTO:+0000
DTSTART:19701025T020000
RRULE:FREQ=YEARLY;BYMONTH=10;BYDAY=-1SU
END:STANDARD
END:VTIMEZONE
BEGIN:VEVENT
DTSTART;TZID=Europe/London;VALUE=DATE:20260606
DTEND;TZID=Europe/London;VALUE=DATE:20260607
DTSTAMP:20260422T205249Z
UID:{0FC37C98-29B6-4585-AF6028F2414C78BB}
LOCATION:National Hospital for Neurology and Neurosurgery\, London
SUMMARY:Neuro-Oncology Course June 2026
DESCRIPTION:Join us at the Queen Square Simulation Centre for a hands-on neuro-oncology course focused on the practical use of modern surgical adjuncts in brain tumour surgery. This one-day course is designed to give trainees meaningful hands-on exposure to technologies that increasingly shape day-to-day neuro-oncological practice.\n
 \n
 Event details: https://www.sbns.org.uk/event-calendar/neuro-oncology-course-june-2026.html
PRIORITY:1
END:VEVENT
END:VCALENDAR