BEGIN:VCALENDAR
PRODID:-//Pixl8//Eventfolio//EN
VERSION:2.0
X-WR-TIMEZONE:Europe/London
CALSCALE:GREGORIAN
METHOD:PUBLISH
CLASS:PUBLIC
BEGIN:VTIMEZONE
TZID:Europe/London
LAST-MODIFIED:20260306T231828Z
TZURL:https://www.tzurl.org/zoneinfo-outlook/Europe/London
X-LIC-LOCATION:Europe/London
BEGIN:DAYLIGHT
TZNAME:BST
TZOFFSETFROM:+0000
TZOFFSETTO:+0100
DTSTART:19700329T010000
RRULE:FREQ=YEARLY;BYMONTH=3;BYDAY=-1SU
END:DAYLIGHT
BEGIN:STANDARD
TZNAME:GMT
TZOFFSETFROM:+0100
TZOFFSETTO:+0000
DTSTART:19701025T020000
RRULE:FREQ=YEARLY;BYMONTH=10;BYDAY=-1SU
END:STANDARD
END:VTIMEZONE
BEGIN:VEVENT
DTSTART;TZID=Europe/London;VALUE=DATE:20251006
DTEND;TZID=Europe/London;VALUE=DATE:20251008
DTSTAMP:20260425T052641Z
UID:{E9520D52-EBEC-4616-A252B58A67DA3D7B}
LOCATION:Medical Sciences Teaching Centre\, South Parks Road\, Oxford\, OX1 3PL
SUMMARY:Human Factors in Healthcare Conference 
DESCRIPTION:A one-day conference examining the impact of human factors in healthcare. Featuring renowned experts in human factors and safety, this year’s event will focus on the role of human factors in advancing education, leadership, and well-being.\n
 \n
 Event details: https://www.sbns.org.uk/event-calendar/human-factors-in-healthcare-conference.html
PRIORITY:1
END:VEVENT
END:VCALENDAR