BEGIN:VCALENDAR
PRODID:-//Pixl8//Eventfolio//EN
VERSION:2.0
X-WR-TIMEZONE:Europe/London
CALSCALE:GREGORIAN
METHOD:PUBLISH
CLASS:PUBLIC
BEGIN:VTIMEZONE
TZID:Europe/London
LAST-MODIFIED:20260306T231828Z
TZURL:https://www.tzurl.org/zoneinfo-outlook/Europe/London
X-LIC-LOCATION:Europe/London
BEGIN:DAYLIGHT
TZNAME:BST
TZOFFSETFROM:+0000
TZOFFSETTO:+0100
DTSTART:19700329T010000
RRULE:FREQ=YEARLY;BYMONTH=3;BYDAY=-1SU
END:DAYLIGHT
BEGIN:STANDARD
TZNAME:GMT
TZOFFSETFROM:+0100
TZOFFSETTO:+0000
DTSTART:19701025T020000
RRULE:FREQ=YEARLY;BYMONTH=10;BYDAY=-1SU
END:STANDARD
END:VTIMEZONE
BEGIN:VEVENT
DTSTART;TZID=Europe/London;VALUE=DATE:20260615
DTEND;TZID=Europe/London;VALUE=DATE:20260617
DTSTAMP:20260423T054119Z
UID:{6730D661-2817-4B3A-8A7CE4E9CCE7FD0D}
LOCATION:B. Braun Business Centre 
SUMMARY:Fundamentals of Paediatric Neurosurgery Course June 2026
DESCRIPTION:Paediatric neurosurgical rotation or on-call can be daunting due to lack of patient exposure and conditions. It’s crucial for trainees to be equipped with the fundamentals of managing patients to safeguard and improve patient care. This will enable trainees to optimise and enhance their learning during their rotation or on-call.\n
 \n
 Event details: https://www.sbns.org.uk/event-calendar/fundamentals-of-paediatric-neurosurgery-course-june-2026.html
PRIORITY:1
END:VEVENT
END:VCALENDAR