BEGIN:VCALENDAR
PRODID:-//Pixl8//Eventfolio//EN
VERSION:2.0
X-WR-TIMEZONE:Europe/London
CALSCALE:GREGORIAN
METHOD:PUBLISH
CLASS:PUBLIC
BEGIN:VTIMEZONE
TZID:Europe/London
LAST-MODIFIED:20260306T231828Z
TZURL:https://www.tzurl.org/zoneinfo-outlook/Europe/London
X-LIC-LOCATION:Europe/London
BEGIN:DAYLIGHT
TZNAME:BST
TZOFFSETFROM:+0000
TZOFFSETTO:+0100
DTSTART:19700329T010000
RRULE:FREQ=YEARLY;BYMONTH=3;BYDAY=-1SU
END:DAYLIGHT
BEGIN:STANDARD
TZNAME:GMT
TZOFFSETFROM:+0100
TZOFFSETTO:+0000
DTSTART:19701025T020000
RRULE:FREQ=YEARLY;BYMONTH=10;BYDAY=-1SU
END:STANDARD
END:VTIMEZONE
BEGIN:VEVENT
DTSTART;TZID=Europe/London:20260511T083000
DTEND;TZID=Europe/London:20260513T170000
DTSTAMP:20260424T060717Z
UID:{2B0AB34A-2B0A-4F7C-9029B57904F2015E}
LOCATION:Kings College London\, Hodgkin Building\, Guy's Campus\, SE1 1UL
SUMMARY:Endoscopy in Neurosurgery course 11-13 May 2026
DESCRIPTION:Endoscopy in Neurosurgery (EiN) is a course aimed at trainees and consultants wishing to\n
 embark on a neuro-endoscopic career or to advance their neuro-endoscopic skills.\n
 The format consists of lectures, video sessions, demonstrations, hands-on sessions\n
 (including cadaveric and high-fidelity models) and discussion.\n
 The course aims to cover all aspects of cranial (days 1 & 2) and spinal (day 3) endoscopy /\n
 minimally invasive neurosurgery as well as fetoscopic neurosurgery.\n
 Fees: £750 for 3 days or £250 for each day until 31st March 2026, thereafter £900 for 3 days\n
 or £300 for each day.\n
 Refreshments and lunch will be provided. Course dinner on Tuesday the 12th May\n
 \n
 Event details: https://www.sbns.org.uk/event-calendar/endoscopy-in-neurosurgery-course-11-13-may-2026.html
PRIORITY:1
END:VEVENT
END:VCALENDAR