BEGIN:VCALENDAR
PRODID:-//Pixl8//Eventfolio//EN
VERSION:2.0
X-WR-TIMEZONE:Europe/London
CALSCALE:GREGORIAN
METHOD:PUBLISH
CLASS:PUBLIC
BEGIN:VTIMEZONE
TZID:Europe/London
LAST-MODIFIED:20260306T231828Z
TZURL:https://www.tzurl.org/zoneinfo-outlook/Europe/London
X-LIC-LOCATION:Europe/London
BEGIN:DAYLIGHT
TZNAME:BST
TZOFFSETFROM:+0000
TZOFFSETTO:+0100
DTSTART:19700329T010000
RRULE:FREQ=YEARLY;BYMONTH=3;BYDAY=-1SU
END:DAYLIGHT
BEGIN:STANDARD
TZNAME:GMT
TZOFFSETFROM:+0100
TZOFFSETTO:+0000
DTSTART:19701025T020000
RRULE:FREQ=YEARLY;BYMONTH=10;BYDAY=-1SU
END:STANDARD
END:VTIMEZONE
BEGIN:VEVENT
DTSTART;TZID=Europe/London;VALUE=DATE:20250618
DTEND;TZID=Europe/London;VALUE=DATE:20250621
DTSTAMP:20260423T081214Z
UID:{F9FE45E2-F404-47E0-9B1A0FE0EB0E87B5}
LOCATION:Pullman London St Pancras | 100\, 110 Euston Road | London | NW1 2AJ
SUMMARY:British Neuro Oncology Society Annual Scientific Meeting
DESCRIPTION:The leading congress for UK neuro-oncology, the programme will address the opportunities and challenges that have emerged in the field of biotechnology. Benefit from a rich and diverse programme that covers all aspects of neuro-oncology research and practice and interact with leading researchers and clinicians from across the world.\n
 \n
 For more information please email: academia.bbmuk@bbraun.com\n
 \n
 Event details: https://www.sbns.org.uk/event-calendar/british-neuro-oncology-society-annual-scientific-meeting.html
PRIORITY:1
END:VEVENT
END:VCALENDAR