BEGIN:VCALENDAR
PRODID:-//Pixl8//Eventfolio//EN
VERSION:2.0
X-WR-TIMEZONE:Europe/London
CALSCALE:GREGORIAN
METHOD:PUBLISH
CLASS:PUBLIC
BEGIN:VTIMEZONE
TZID:Europe/London
LAST-MODIFIED:20260306T231828Z
TZURL:https://www.tzurl.org/zoneinfo-outlook/Europe/London
X-LIC-LOCATION:Europe/London
BEGIN:DAYLIGHT
TZNAME:BST
TZOFFSETFROM:+0000
TZOFFSETTO:+0100
DTSTART:19700329T010000
RRULE:FREQ=YEARLY;BYMONTH=3;BYDAY=-1SU
END:DAYLIGHT
BEGIN:STANDARD
TZNAME:GMT
TZOFFSETFROM:+0100
TZOFFSETTO:+0000
DTSTART:19701025T020000
RRULE:FREQ=YEARLY;BYMONTH=10;BYDAY=-1SU
END:STANDARD
END:VTIMEZONE
BEGIN:VEVENT
DTSTART;TZID=Europe/London;VALUE=DATE:20260320
DTEND;TZID=Europe/London;VALUE=DATE:20260321
DTSTAMP:20260423T091336Z
UID:{A1F01459-7191-41E5-876509BF19688872}
LOCATION:Minster Building\, 21 Mincing Lane\, London EC3R 7AG
SUMMARY:Brain Conference
DESCRIPTION:The Guarantors of Brain promotes teaching, education and research into the science of neurology and related clinical-academic disciplines. The charity started the Brain Conference in 2021 to further fulfil this mission. The event is open to students, researchers, academics & professionals interested in neurology/ clinical neuroscience.\n
 \n
 Event details: https://www.sbns.org.uk/event-calendar/brain-conference.html
PRIORITY:1
END:VEVENT
END:VCALENDAR